1.0000000000
0.0000000000
0.0000000000
-1.0000000000
748920.5000000000
3724289.5000000000
