1.0000000000
0.0000000000
0.0000000000
-1.0000000000
743130.5000000000
3724139.5000000000
