1.0000000000
0.0000000000
0.0000000000
-1.0000000000
749100.5000000000
3717359.5000000000
