1.0000000000
0.0000000000
0.0000000000
-1.0000000000
743280.5000000000
3717209.5000000000
