1.0000000000
0.0000000000
0.0000000000
-1.0000000000
737310.5000000000
3723989.5000000000
