1.0000000000
0.0000000000
0.0000000000
-1.0000000000
731520.5000000000
3723839.5000000000
