1.0000000000
0.0000000000
0.0000000000
-1.0000000000
737490.5000000000
3717059.5000000000
