1.0000000000
0.0000000000
0.0000000000
-1.0000000000
731700.5000000000
3716909.5000000000
