1.0000000000
0.0000000000
0.0000000000
-1.0000000000
725730.5000000000
3723689.5000000000
