1.0000000000
0.0000000000
0.0000000000
-1.0000000000
719910.5000000000
3723569.5000000000
