1.0000000000
0.0000000000
0.0000000000
-1.0000000000
725880.5000000000
3716759.5000000000
