1.0000000000
0.0000000000
0.0000000000
-1.0000000000
720090.5000000000
3716639.5000000000
