1.0000000000
0.0000000000
0.0000000000
-1.0000000000
714120.5000000000
3723419.5000000000
