1.0000000000
0.0000000000
0.0000000000
-1.0000000000
708330.5000000000
3723299.5000000000
