1.0000000000
0.0000000000
0.0000000000
-1.0000000000
714270.5000000000
3716489.5000000000
