1.0000000000
0.0000000000
0.0000000000
-1.0000000000
708480.5000000000
3716369.5000000000
