1.0000000000
0.0000000000
0.0000000000
-1.0000000000
702510.5000000000
3723149.5000000000
