1.0000000000
0.0000000000
0.0000000000
-1.0000000000
696720.5000000000
3723029.5000000000
