1.0000000000
0.0000000000
0.0000000000
-1.0000000000
702660.5000000000
3716219.5000000000
