1.0000000000
0.0000000000
0.0000000000
-1.0000000000
690930.5000000000
3722909.5000000000
