1.0000000000
0.0000000000
0.0000000000
-1.0000000000
685140.5000000000
3722789.5000000000
