1.0000000000
0.0000000000
0.0000000000
-1.0000000000
760140.5000000000
3738479.5000000000
