1.0000000000
0.0000000000
0.0000000000
-1.0000000000
754350.5000000000
3738299.5000000000
