1.0000000000
0.0000000000
0.0000000000
-1.0000000000
760320.5000000000
3731519.5000000000
