1.0000000000
0.0000000000
0.0000000000
-1.0000000000
754530.5000000000
3731369.5000000000
