1.0000000000
0.0000000000
0.0000000000
-1.0000000000
748560.5000000000
3738149.5000000000
