1.0000000000
0.0000000000
0.0000000000
-1.0000000000
742770.5000000000
3737999.5000000000
