1.0000000000
0.0000000000
0.0000000000
-1.0000000000
748740.5000000000
3731219.5000000000
