1.0000000000
0.0000000000
0.0000000000
-1.0000000000
742950.5000000000
3731069.5000000000
