1.0000000000
0.0000000000
0.0000000000
-1.0000000000
736980.5000000000
3737849.5000000000
