1.0000000000
0.0000000000
0.0000000000
-1.0000000000
731190.5000000000
3737699.5000000000
