1.0000000000
0.0000000000
0.0000000000
-1.0000000000
737160.5000000000
3730919.5000000000
