1.0000000000
0.0000000000
0.0000000000
-1.0000000000
731340.5000000000
3730769.5000000000
