1.0000000000
0.0000000000
0.0000000000
-1.0000000000
725400.5000000000
3737549.5000000000
