1.0000000000
0.0000000000
0.0000000000
-1.0000000000
719610.5000000000
3737429.5000000000
