1.0000000000
0.0000000000
0.0000000000
-1.0000000000
725550.5000000000
3730619.5000000000
