1.0000000000
0.0000000000
0.0000000000
-1.0000000000
719760.5000000000
3730499.5000000000
