1.0000000000
0.0000000000
0.0000000000
-1.0000000000
713820.5000000000
3737279.5000000000
