1.0000000000
0.0000000000
0.0000000000
-1.0000000000
708030.5000000000
3737159.5000000000
