1.0000000000
0.0000000000
0.0000000000
-1.0000000000
713970.5000000000
3730349.5000000000
