1.0000000000
0.0000000000
0.0000000000
-1.0000000000
708180.5000000000
3730229.5000000000
