1.0000000000
0.0000000000
0.0000000000
-1.0000000000
702240.5000000000
3737039.5000000000
