1.0000000000
0.0000000000
0.0000000000
-1.0000000000
696450.5000000000
3736889.5000000000
