1.0000000000
0.0000000000
0.0000000000
-1.0000000000
702390.5000000000
3730109.5000000000
