1.0000000000
0.0000000000
0.0000000000
-1.0000000000
696570.5000000000
3729959.5000000000
