1.0000000000
0.0000000000
0.0000000000
-1.0000000000
690660.5000000000
3736769.5000000000
