1.0000000000
0.0000000000
0.0000000000
-1.0000000000
684870.5000000000
3736649.5000000000
