1.0000000000
0.0000000000
0.0000000000
-1.0000000000
690780.5000000000
3729839.5000000000
