1.0000000000
0.0000000000
0.0000000000
-1.0000000000
684990.5000000000
3729719.5000000000
