1.0000000000
0.0000000000
0.0000000000
-1.0000000000
736620.5000000000
3751709.5000000000
